BEGIN:VCALENDAR
VERSION:2.0
PRODID:-//PaFEC - ECPv6.15.20//NONSGML v1.0//EN
CALSCALE:GREGORIAN
METHOD:PUBLISH
X-WR-CALNAME:PaFEC
X-ORIGINAL-URL:https://paedchoice.org
X-WR-CALDESC:Events for PaFEC
REFRESH-INTERVAL;VALUE=DURATION:PT1H
X-Robots-Tag:noindex
X-PUBLISHED-TTL:PT1H
BEGIN:VTIMEZONE
TZID:America/New_York
BEGIN:DAYLIGHT
TZOFFSETFROM:-0500
TZOFFSETTO:-0400
TZNAME:EDT
DTSTART:20250309T070000
END:DAYLIGHT
BEGIN:STANDARD
TZOFFSETFROM:-0400
TZOFFSETTO:-0500
TZNAME:EST
DTSTART:20251102T060000
END:STANDARD
BEGIN:DAYLIGHT
TZOFFSETFROM:-0500
TZOFFSETTO:-0400
TZNAME:EDT
DTSTART:20260308T070000
END:DAYLIGHT
BEGIN:STANDARD
TZOFFSETFROM:-0400
TZOFFSETTO:-0500
TZNAME:EST
DTSTART:20261101T060000
END:STANDARD
BEGIN:DAYLIGHT
TZOFFSETFROM:-0500
TZOFFSETTO:-0400
TZNAME:EDT
DTSTART:20270314T070000
END:DAYLIGHT
BEGIN:STANDARD
TZOFFSETFROM:-0400
TZOFFSETTO:-0500
TZNAME:EST
DTSTART:20271107T060000
END:STANDARD
END:VTIMEZONE
BEGIN:VEVENT
DTSTART;TZID=America/New_York:20260511T110000
DTEND;TZID=America/New_York:20260511T120000
DTSTAMP:20260423T025647
CREATED:20260319T163304Z
LAST-MODIFIED:20260319T163304Z
UID:11041-1778497200-1778500800@paedchoice.org
SUMMARY:PA K-12 Scholarship Virtual
DESCRIPTION:Register here >>
URL:https://paedchoice.org/event/pa-k-12-scholarship-virtual-7/
END:VEVENT
BEGIN:VEVENT
DTSTART;TZID=America/New_York:20260511T180000
DTEND;TZID=America/New_York:20260511T190000
DTSTAMP:20260423T025647
CREATED:20260319T163449Z
LAST-MODIFIED:20260319T163449Z
UID:11043-1778522400-1778526000@paedchoice.org
SUMMARY:PA K-12 Scholarship Virtual
DESCRIPTION:Register here >>
URL:https://paedchoice.org/event/pa-k-12-scholarship-virtual-8/
END:VEVENT
BEGIN:VEVENT
DTSTART;TZID=America/New_York:20260511T190000
DTEND;TZID=America/New_York:20260511T193000
DTSTAMP:20260423T025647
CREATED:20260319T163725Z
LAST-MODIFIED:20260417T191013Z
UID:11045-1778526000-1778527800@paedchoice.org
SUMMARY:RPL Spotlight **Guest Nichole Miller**
DESCRIPTION:Register here >>
URL:https://paedchoice.org/event/rpl-spotlight-2/
END:VEVENT
BEGIN:VEVENT
DTSTART;TZID=America/New_York:20260513T100000
DTEND;TZID=America/New_York:20260513T120000
DTSTAMP:20260423T025647
CREATED:20260417T190807Z
LAST-MODIFIED:20260417T190807Z
UID:11342-1778666400-1778673600@paedchoice.org
SUMMARY:PaFEC Pop-Up Huntingdon Valley
DESCRIPTION:Individualized one-on-one help from RPL Kate Brenton. \nRegister here >>
URL:https://paedchoice.org/event/pafec-pop-up-huntingdon-valley/
LOCATION:Be Well Bakery and Cafe\, Be Well Bakery and Cafe 2651 Huntingdon Pike\, Huntingdon Valley\, PA\, 19006\, United States
END:VEVENT
BEGIN:VEVENT
DTSTART;TZID=America/New_York:20260515T090000
DTEND;TZID=America/New_York:20260515T110000
DTSTAMP:20260423T025647
CREATED:20260423T030232Z
LAST-MODIFIED:20260423T030315Z
UID:11383-1778835600-1778842800@paedchoice.org
SUMMARY:PaFEC Pop-Up Monroeville
DESCRIPTION:Individualized one-on-one help from PaFEC Founder Sharon Sedlar. \nRegister here >>
URL:https://paedchoice.org/event/pafec-pop-up-monroeville/
LOCATION:Panera Bread Monroeville\, 4172 William Penn Hwy\, Monroeville\, PA\, 15146\, United States
END:VEVENT
BEGIN:VEVENT
DTSTART;TZID=America/New_York:20260515T160000
DTEND;TZID=America/New_York:20260515T180000
DTSTAMP:20260423T025647
CREATED:20260319T165751Z
LAST-MODIFIED:20260423T025957Z
UID:11061-1778860800-1778868000@paedchoice.org
SUMMARY:PaFEC Pop-Up Oakland
DESCRIPTION:Individualized one-on-one help from PaFEC Founder Sharon Sedlar. \nRegister here >>
URL:https://paedchoice.org/event/pafec-pop-up-oakland-2/
LOCATION:Novo Asian Food Hall (Located in the Strip District Terminal)\, 1931 Smallman Street\, Pittsburgh\, 15222\, United States
END:VEVENT
BEGIN:VEVENT
DTSTART;TZID=America/New_York:20260518T093000
DTEND;TZID=America/New_York:20260518T113000
DTSTAMP:20260423T025647
CREATED:20260423T030541Z
LAST-MODIFIED:20260423T030541Z
UID:11387-1779096600-1779103800@paedchoice.org
SUMMARY:PaFEC Pop-Up Pittsburgh
DESCRIPTION:Individualized one-on-one help from PaFEC Founder Sharon Sedlar. \nRegister here >>
URL:https://paedchoice.org/event/pafec-pop-up-pittsburgh/
LOCATION:Delanie’s Coffee\, 1737 E Carson St\, Pittsburgh\, PA\, 15203\, United States
END:VEVENT
BEGIN:VEVENT
DTSTART;TZID=America/New_York:20260518T170000
DTEND;TZID=America/New_York:20260518T190000
DTSTAMP:20260423T025647
CREATED:20260319T165948Z
LAST-MODIFIED:20260417T191421Z
UID:11063-1779123600-1779130800@paedchoice.org
SUMMARY:PaFEC Pop-Up North Wales
DESCRIPTION:Individualized one-on-one help from RPL Kelly Clearkin. \nRegister here >>
URL:https://paedchoice.org/event/pafec-pop-up-north-wales/
LOCATION:Panera Bread North Whales\, 21 Airport Sq Rd\, North Wales\, PA\, 19454\, United States
END:VEVENT
BEGIN:VEVENT
DTSTART;TZID=America/New_York:20260518T190000
DTEND;TZID=America/New_York:20260518T193000
DTSTAMP:20260423T025647
CREATED:20260319T164102Z
LAST-MODIFIED:20260417T191051Z
UID:11049-1779130800-1779132600@paedchoice.org
SUMMARY:Special Education Spotlight **Guests Dr. Barbara Pagan & Cherie River**
DESCRIPTION:Register here >>
URL:https://paedchoice.org/event/special-education-spotlight-6/
END:VEVENT
BEGIN:VEVENT
DTSTART;TZID=America/New_York:20260519T103000
DTEND;TZID=America/New_York:20260519T123000
DTSTAMP:20260423T025647
CREATED:20260423T030736Z
LAST-MODIFIED:20260423T030736Z
UID:11390-1779186600-1779193800@paedchoice.org
SUMMARY:PaFEC Pop-Up Johnstown
DESCRIPTION:Individualized one-on-one help from PaFEC Founder Sharon Sedlar. \nRegister here >>
URL:https://paedchoice.org/event/pafec-pop-up-johnstown/
LOCATION:The Morning Grind Coffee House\, 1601 Ferndale Ave\, Johnstown\, PA\, 15905\, United States
END:VEVENT
BEGIN:VEVENT
DTSTART;TZID=America/New_York:20260520T110000
DTEND;TZID=America/New_York:20260520T120000
DTSTAMP:20260423T025647
CREATED:20260319T164214Z
LAST-MODIFIED:20260319T164214Z
UID:11051-1779274800-1779278400@paedchoice.org
SUMMARY:PA K-12 Scholarship Virtual
DESCRIPTION:Register here >>
URL:https://paedchoice.org/event/pa-k-12-scholarship-virtual-9/
END:VEVENT
BEGIN:VEVENT
DTSTART;TZID=America/New_York:20260520T180000
DTEND;TZID=America/New_York:20260520T190000
DTSTAMP:20260423T025647
CREATED:20260319T164318Z
LAST-MODIFIED:20260319T164318Z
UID:11053-1779300000-1779303600@paedchoice.org
SUMMARY:PA K-12 Scholarship Virtual
DESCRIPTION:Register here >>
URL:https://paedchoice.org/event/pa-k-12-scholarship-virtual-10/
END:VEVENT
BEGIN:VEVENT
DTSTART;TZID=America/New_York:20260525T190000
DTEND;TZID=America/New_York:20260525T190000
DTSTAMP:20260423T025647
CREATED:20260323T130639Z
LAST-MODIFIED:20260417T191150Z
UID:11068-1779735600-1779735600@paedchoice.org
SUMMARY:Educator Spotlight **Guest Mikala Blaak** Video Release
DESCRIPTION:
URL:https://paedchoice.org/event/educator-spotlight-video-release/
END:VEVENT
BEGIN:VEVENT
DTSTART;TZID=America/New_York:20260526T103000
DTEND;TZID=America/New_York:20260526T123000
DTSTAMP:20260423T025647
CREATED:20260423T030848Z
LAST-MODIFIED:20260423T030848Z
UID:11393-1779791400-1779798600@paedchoice.org
SUMMARY:PaFEC Pop-Up Johnstown
DESCRIPTION:Individualized one-on-one help from PaFEC Founder Sharon Sedlar. \nRegister here >>
URL:https://paedchoice.org/event/pafec-pop-up-johnstown-2/
LOCATION:The Morning Grind Coffee House\, 1601 Ferndale Ave\, Johnstown\, PA\, 15905\, United States
END:VEVENT
BEGIN:VEVENT
DTSTART;TZID=America/New_York:20260527T110000
DTEND;TZID=America/New_York:20260527T120000
DTSTAMP:20260423T025647
CREATED:20260319T164435Z
LAST-MODIFIED:20260319T164435Z
UID:11055-1779879600-1779883200@paedchoice.org
SUMMARY:PA K-12 Scholarship Virtual
DESCRIPTION:Register here >>
URL:https://paedchoice.org/event/pa-k-12-scholarship-virtual-11/
END:VEVENT
BEGIN:VEVENT
DTSTART;TZID=America/New_York:20260527T180000
DTEND;TZID=America/New_York:20260527T190000
DTSTAMP:20260423T025647
CREATED:20260319T164613Z
LAST-MODIFIED:20260319T164613Z
UID:11057-1779904800-1779908400@paedchoice.org
SUMMARY:PA K-12 Scholarship Virtual
DESCRIPTION:Register here >>
URL:https://paedchoice.org/event/pa-k-12-scholarship-virtual-12/
END:VEVENT
END:VCALENDAR