BEGIN:VCALENDAR
VERSION:2.0
PRODID:-//PaFEC - ECPv6.15.20//NONSGML v1.0//EN
CALSCALE:GREGORIAN
METHOD:PUBLISH
X-WR-CALNAME:PaFEC
X-ORIGINAL-URL:https://paedchoice.org
X-WR-CALDESC:Events for PaFEC
REFRESH-INTERVAL;VALUE=DURATION:PT1H
X-Robots-Tag:noindex
X-PUBLISHED-TTL:PT1H
BEGIN:VTIMEZONE
TZID:America/New_York
BEGIN:DAYLIGHT
TZOFFSETFROM:-0500
TZOFFSETTO:-0400
TZNAME:EDT
DTSTART:20250309T070000
END:DAYLIGHT
BEGIN:STANDARD
TZOFFSETFROM:-0400
TZOFFSETTO:-0500
TZNAME:EST
DTSTART:20251102T060000
END:STANDARD
BEGIN:DAYLIGHT
TZOFFSETFROM:-0500
TZOFFSETTO:-0400
TZNAME:EDT
DTSTART:20260308T070000
END:DAYLIGHT
BEGIN:STANDARD
TZOFFSETFROM:-0400
TZOFFSETTO:-0500
TZNAME:EST
DTSTART:20261101T060000
END:STANDARD
BEGIN:DAYLIGHT
TZOFFSETFROM:-0500
TZOFFSETTO:-0400
TZNAME:EDT
DTSTART:20270314T070000
END:DAYLIGHT
BEGIN:STANDARD
TZOFFSETFROM:-0400
TZOFFSETTO:-0500
TZNAME:EST
DTSTART:20271107T060000
END:STANDARD
END:VTIMEZONE
BEGIN:VEVENT
DTSTART;TZID=America/New_York:20260423T183000
DTEND;TZID=America/New_York:20260423T203000
DTSTAMP:20260423T020439
CREATED:20260319T160325Z
LAST-MODIFIED:20260402T012556Z
UID:11034-1776969000-1776976200@paedchoice.org
SUMMARY:PaFEC Pop-Up Levittown
DESCRIPTION:Individualized one-on-one help. \nRegister here >>
URL:https://paedchoice.org/event/pafec-pop-up-levittown/
LOCATION:Panera Levittown\, Panera Bread\, 1345 Lincoln Hwy\, Levittown\, PA\, 19056\, United States
END:VEVENT
END:VCALENDAR